BEGIN:VCALENDAR
VERSION:2.0
PRODID:-//Grundschule Bockenheim - ECPv6.15.20//NONSGML v1.0//EN
CALSCALE:GREGORIAN
METHOD:PUBLISH
X-WR-CALNAME:Grundschule Bockenheim
X-ORIGINAL-URL:http://www.grundschule-bockenheim.de
X-WR-CALDESC:Veranstaltungen für Grundschule Bockenheim
REFRESH-INTERVAL;VALUE=DURATION:PT1H
X-Robots-Tag:noindex
X-PUBLISHED-TTL:PT1H
BEGIN:VTIMEZONE
TZID:Europe/Berlin
BEGIN:DAYLIGHT
TZOFFSETFROM:+0100
TZOFFSETTO:+0200
TZNAME:CEST
DTSTART:20240331T010000
END:DAYLIGHT
BEGIN:STANDARD
TZOFFSETFROM:+0200
TZOFFSETTO:+0100
TZNAME:CET
DTSTART:20241027T010000
END:STANDARD
BEGIN:DAYLIGHT
TZOFFSETFROM:+0100
TZOFFSETTO:+0200
TZNAME:CEST
DTSTART:20250330T010000
END:DAYLIGHT
BEGIN:STANDARD
TZOFFSETFROM:+0200
TZOFFSETTO:+0100
TZNAME:CET
DTSTART:20251026T010000
END:STANDARD
BEGIN:DAYLIGHT
TZOFFSETFROM:+0100
TZOFFSETTO:+0200
TZNAME:CEST
DTSTART:20260329T010000
END:DAYLIGHT
BEGIN:STANDARD
TZOFFSETFROM:+0200
TZOFFSETTO:+0100
TZNAME:CET
DTSTART:20261025T010000
END:STANDARD
BEGIN:DAYLIGHT
TZOFFSETFROM:+0100
TZOFFSETTO:+0200
TZNAME:CEST
DTSTART:20270328T010000
END:DAYLIGHT
BEGIN:STANDARD
TZOFFSETFROM:+0200
TZOFFSETTO:+0100
TZNAME:CET
DTSTART:20271031T010000
END:STANDARD
END:VTIMEZONE
BEGIN:VEVENT
DTSTART;VALUE=DATE:20260330
DTEND;VALUE=DATE:20260411
DTSTAMP:20260419T152918
CREATED:20250729T121451Z
LAST-MODIFIED:20250729T121451Z
UID:1774-1774828800-1775865599@www.grundschule-bockenheim.de
SUMMARY:Osterferien
DESCRIPTION:
URL:http://www.grundschule-bockenheim.de/event/osterferien-6/
END:VEVENT
BEGIN:VEVENT
DTSTART;VALUE=DATE:20260327
DTEND;VALUE=DATE:20260328
DTSTAMP:20260419T152918
CREATED:20251001T131336Z
LAST-MODIFIED:20251001T131336Z
UID:1833-1774569600-1774655999@www.grundschule-bockenheim.de
SUMMARY:Schulfrühstück für alle Kinder der Grundschule – organisiert von den Eltern der Klassenstufe 1
DESCRIPTION:
URL:http://www.grundschule-bockenheim.de/event/schulfruehstueck-fuer-alle-kinder-der-grundschule-organisiert-von-den-eltern-der-klassenstufe-1-6/
END:VEVENT
BEGIN:VEVENT
DTSTART;VALUE=DATE:20260323
DTEND;VALUE=DATE:20260328
DTSTAMP:20260419T152918
CREATED:20260223T141103Z
LAST-MODIFIED:20260223T141103Z
UID:1925-1774224000-1774655999@www.grundschule-bockenheim.de
SUMMARY:BGS Speiseplan KW 13
DESCRIPTION:Speiseplan KW 13-26
URL:http://www.grundschule-bockenheim.de/event/bgs-speiseplan-kw-13-2/
END:VEVENT
BEGIN:VEVENT
DTSTART;VALUE=DATE:20260316
DTEND;VALUE=DATE:20260321
DTSTAMP:20260419T152918
CREATED:20260223T141009Z
LAST-MODIFIED:20260223T141009Z
UID:1922-1773619200-1774051199@www.grundschule-bockenheim.de
SUMMARY:BGS Speiseplan KW 12
DESCRIPTION:Speiseplan KW 12-26
URL:http://www.grundschule-bockenheim.de/event/bgs-speiseplan-kw-12-4/
END:VEVENT
BEGIN:VEVENT
DTSTART;VALUE=DATE:20260309
DTEND;VALUE=DATE:20260314
DTSTAMP:20260419T152918
CREATED:20260223T140920Z
LAST-MODIFIED:20260223T140920Z
UID:1919-1773014400-1773446399@www.grundschule-bockenheim.de
SUMMARY:BGS Speiseplan KW 11
DESCRIPTION:Speiseplan KW 11-26
URL:http://www.grundschule-bockenheim.de/event/bgs-speiseplan-kw-11-5/
END:VEVENT
BEGIN:VEVENT
DTSTART;VALUE=DATE:20260302
DTEND;VALUE=DATE:20260307
DTSTAMP:20260419T152918
CREATED:20260122T112651Z
LAST-MODIFIED:20260122T112651Z
UID:1915-1772409600-1772841599@www.grundschule-bockenheim.de
SUMMARY:BGS Speiseplan KW 10
DESCRIPTION:Speiseplan KW 10-26
URL:http://www.grundschule-bockenheim.de/event/bgs-speiseplan-kw-10-4/
END:VEVENT
BEGIN:VEVENT
DTSTART;VALUE=DATE:20260227
DTEND;VALUE=DATE:20260228
DTSTAMP:20260419T152918
CREATED:20251001T131248Z
LAST-MODIFIED:20251001T131248Z
UID:1831-1772150400-1772236799@www.grundschule-bockenheim.de
SUMMARY:Schulfrühstück für alle Kinder der Grundschule – organisiert von den Eltern der Klassenstufe 3
DESCRIPTION:
URL:http://www.grundschule-bockenheim.de/event/schulfruehstueck-fuer-alle-kinder-der-grundschule-organisiert-von-den-eltern-der-klassenstufe-3-8/
END:VEVENT
BEGIN:VEVENT
DTSTART;VALUE=DATE:20260223
DTEND;VALUE=DATE:20260228
DTSTAMP:20260419T152918
CREATED:20260122T112519Z
LAST-MODIFIED:20260122T112519Z
UID:1912-1771804800-1772236799@www.grundschule-bockenheim.de
SUMMARY:BGS Speiseplan KW 9
DESCRIPTION:Speiseplan KW 09-26
URL:http://www.grundschule-bockenheim.de/event/bgs-speiseplan-kw-9-3/
END:VEVENT
BEGIN:VEVENT
DTSTART;VALUE=DATE:20260218
DTEND;VALUE=DATE:20260219
DTSTAMP:20260419T152918
CREATED:20250729T121343Z
LAST-MODIFIED:20250729T121343Z
UID:1772-1771372800-1771459199@www.grundschule-bockenheim.de
SUMMARY:Beweglicher Ferientag - Aschermittwoch
DESCRIPTION:
URL:http://www.grundschule-bockenheim.de/event/beweglicher-ferientag-aschermittwoch/
END:VEVENT
BEGIN:VEVENT
DTSTART;VALUE=DATE:20260217
DTEND;VALUE=DATE:20260218
DTSTAMP:20260419T152918
CREATED:20250729T121250Z
LAST-MODIFIED:20250729T121250Z
UID:1770-1771286400-1771372799@www.grundschule-bockenheim.de
SUMMARY:Beweglicher Ferientag - Fastnachtsdienstag
DESCRIPTION:
URL:http://www.grundschule-bockenheim.de/event/beweglicher-ferientag-fastnachtsdienstag-2/
END:VEVENT
BEGIN:VEVENT
DTSTART;VALUE=DATE:20260216
DTEND;VALUE=DATE:20260221
DTSTAMP:20260419T152918
CREATED:20260116T091542Z
LAST-MODIFIED:20260116T091542Z
UID:1908-1771200000-1771631999@www.grundschule-bockenheim.de
SUMMARY:BGS Speiseplan KW 08
DESCRIPTION:Speiseplan KW 08-26
URL:http://www.grundschule-bockenheim.de/event/bgs-speiseplan-kw-08/
END:VEVENT
BEGIN:VEVENT
DTSTART;VALUE=DATE:20260216
DTEND;VALUE=DATE:20260217
DTSTAMP:20260419T152918
CREATED:20250729T121104Z
LAST-MODIFIED:20250729T121104Z
UID:1768-1771200000-1771286399@www.grundschule-bockenheim.de
SUMMARY:Beweglicher Ferientag - Rosenmontag
DESCRIPTION:
URL:http://www.grundschule-bockenheim.de/event/beweglicher-ferientag-rosenmontag-3/
END:VEVENT
BEGIN:VEVENT
DTSTART;VALUE=DATE:20260213
DTEND;VALUE=DATE:20260214
DTSTAMP:20260419T152918
CREATED:20250729T121015Z
LAST-MODIFIED:20250729T121015Z
UID:1766-1770940800-1771027199@www.grundschule-bockenheim.de
SUMMARY:Beweglicher Ferientag
DESCRIPTION:
URL:http://www.grundschule-bockenheim.de/event/beweglicher-ferientag-16/
END:VEVENT
BEGIN:VEVENT
DTSTART;VALUE=DATE:20260209
DTEND;VALUE=DATE:20260214
DTSTAMP:20260419T152918
CREATED:20260116T091453Z
LAST-MODIFIED:20260116T091453Z
UID:1905-1770595200-1771027199@www.grundschule-bockenheim.de
SUMMARY:BGS Speiseplan KW 07
DESCRIPTION:Speiseplan KW 07-26
URL:http://www.grundschule-bockenheim.de/event/bgs-speiseplan-kw-07/
END:VEVENT
BEGIN:VEVENT
DTSTART;VALUE=DATE:20260202
DTEND;VALUE=DATE:20260207
DTSTAMP:20260419T152918
CREATED:20251217T145016Z
LAST-MODIFIED:20251217T145016Z
UID:1898-1769990400-1770422399@www.grundschule-bockenheim.de
SUMMARY:BGS Speiseplan KW 06
DESCRIPTION:Speiseplan KW 06-26
URL:http://www.grundschule-bockenheim.de/event/bgs-speiseplan-kw-06-2/
END:VEVENT
BEGIN:VEVENT
DTSTART;VALUE=DATE:20260130
DTEND;VALUE=DATE:20260131
DTSTAMP:20260419T152918
CREATED:20251001T131207Z
LAST-MODIFIED:20251001T131207Z
UID:1829-1769731200-1769817599@www.grundschule-bockenheim.de
SUMMARY:Schulfrühstück für alle Kinder der Grundschule – organisiert von den Eltern der Klassenstufe 2
DESCRIPTION:
URL:http://www.grundschule-bockenheim.de/event/schulfruehstueck-fuer-alle-kinder-der-grundschule-organisiert-von-den-eltern-der-klassenstufe-2-5/
END:VEVENT
BEGIN:VEVENT
DTSTART;VALUE=DATE:20260126
DTEND;VALUE=DATE:20260131
DTSTAMP:20260419T152918
CREATED:20251217T144924Z
LAST-MODIFIED:20251217T144924Z
UID:1895-1769385600-1769817599@www.grundschule-bockenheim.de
SUMMARY:BGS Speiseplan KW 05
DESCRIPTION:Speiseplan KW 05-26
URL:http://www.grundschule-bockenheim.de/event/bgs-speiseplan-kw-05-2/
END:VEVENT
BEGIN:VEVENT
DTSTART;VALUE=DATE:20260119
DTEND;VALUE=DATE:20260124
DTSTAMP:20260419T152918
CREATED:20251211T141911Z
LAST-MODIFIED:20251211T141911Z
UID:1893-1768780800-1769212799@www.grundschule-bockenheim.de
SUMMARY:BGS Speiseplan KW 04
DESCRIPTION:
URL:http://www.grundschule-bockenheim.de/event/bgs-speiseplan-kw-04-3/
END:VEVENT
BEGIN:VEVENT
DTSTART;VALUE=DATE:20260112
DTEND;VALUE=DATE:20260117
DTSTAMP:20260419T152918
CREATED:20251211T141829Z
LAST-MODIFIED:20251211T141829Z
UID:1890-1768176000-1768607999@www.grundschule-bockenheim.de
SUMMARY:BGS Speiseplan KW 03
DESCRIPTION:Speiseplan KW 02-26
URL:http://www.grundschule-bockenheim.de/event/bgs-speiseplan-kw-03-3/
END:VEVENT
BEGIN:VEVENT
DTSTART;VALUE=DATE:20260105
DTEND;VALUE=DATE:20260110
DTSTAMP:20260419T152918
CREATED:20251127T095054Z
LAST-MODIFIED:20251127T095054Z
UID:1873-1767571200-1768003199@www.grundschule-bockenheim.de
SUMMARY:BGS Speiseplan KW 02
DESCRIPTION:Speiseplan KW 02-26
URL:http://www.grundschule-bockenheim.de/event/bgs-speiseplan-kw-02-3/
END:VEVENT
BEGIN:VEVENT
DTSTART;VALUE=DATE:20251222
DTEND;VALUE=DATE:20260108
DTSTAMP:20260419T152918
CREATED:20250729T120736Z
LAST-MODIFIED:20250729T120910Z
UID:1762-1766361600-1767830399@www.grundschule-bockenheim.de
SUMMARY:Weihnachtsferien
DESCRIPTION:
URL:http://www.grundschule-bockenheim.de/event/herbstferien-4/
END:VEVENT
BEGIN:VEVENT
DTSTART;TZID=Europe/Berlin:20251218T100000
DTEND;TZID=Europe/Berlin:20251218T110000
DTSTAMP:20260419T152918
CREATED:20251102T170251Z
LAST-MODIFIED:20251102T170251Z
UID:1852-1766052000-1766055600@www.grundschule-bockenheim.de
SUMMARY:Weihnachtsgottesdienst - Lambertskirche
DESCRIPTION:
URL:http://www.grundschule-bockenheim.de/event/weihnachtsgottesdienst-lambertskirche/
END:VEVENT
BEGIN:VEVENT
DTSTART;VALUE=DATE:20251215
DTEND;VALUE=DATE:20251220
DTSTAMP:20260419T152918
CREATED:20251127T100232Z
LAST-MODIFIED:20251127T100232Z
UID:1882-1765756800-1766188799@www.grundschule-bockenheim.de
SUMMARY:BGS Speiseplan KW 51
DESCRIPTION:Speiseplan KW 51
URL:http://www.grundschule-bockenheim.de/event/bgs-speiseplan-kw-51-4/
END:VEVENT
BEGIN:VEVENT
DTSTART;VALUE=DATE:20251208
DTEND;VALUE=DATE:20251213
DTSTAMP:20260419T152918
CREATED:20251127T100144Z
LAST-MODIFIED:20251127T100144Z
UID:1879-1765152000-1765583999@www.grundschule-bockenheim.de
SUMMARY:BGS Speiseplan KW 50
DESCRIPTION:Speiseplan KW 50
URL:http://www.grundschule-bockenheim.de/event/bgs-speiseplan-kw-50-4/
END:VEVENT
BEGIN:VEVENT
DTSTART;TZID=Europe/Berlin:20251205T090000
DTEND;TZID=Europe/Berlin:20251205T120000
DTSTAMP:20260419T152918
CREATED:20251102T170102Z
LAST-MODIFIED:20251102T170102Z
UID:1850-1764925200-1764936000@www.grundschule-bockenheim.de
SUMMARY:Theaterbesuch
DESCRIPTION:
URL:http://www.grundschule-bockenheim.de/event/theaterbesuch/
END:VEVENT
BEGIN:VEVENT
DTSTART;VALUE=DATE:20251201
DTEND;VALUE=DATE:20251206
DTSTAMP:20260419T152918
CREATED:20251127T100029Z
LAST-MODIFIED:20251127T100029Z
UID:1876-1764547200-1764979199@www.grundschule-bockenheim.de
SUMMARY:Speiseplan KW 49
DESCRIPTION:Speiseplan KW 49
URL:http://www.grundschule-bockenheim.de/event/speiseplan-kw-49/
END:VEVENT
BEGIN:VEVENT
DTSTART;VALUE=DATE:20251128
DTEND;VALUE=DATE:20251129
DTSTAMP:20260419T152918
CREATED:20251001T131125Z
LAST-MODIFIED:20251001T131125Z
UID:1827-1764288000-1764374399@www.grundschule-bockenheim.de
SUMMARY:Schulfrühstück für alle Kinder der Grundschule – organisiert von den Eltern der Klassenstufe 1
DESCRIPTION:
URL:http://www.grundschule-bockenheim.de/event/schulfruehstueck-fuer-alle-kinder-der-grundschule-organisiert-von-den-eltern-der-klassenstufe-1-5/
END:VEVENT
BEGIN:VEVENT
DTSTART;TZID=Europe/Berlin:20251126T190000
DTEND;TZID=Europe/Berlin:20251126T203000
DTSTAMP:20260419T152918
CREATED:20251102T165914Z
LAST-MODIFIED:20251102T165914Z
UID:1848-1764183600-1764189000@www.grundschule-bockenheim.de
SUMMARY:BGS - Vitesca Schulverpflegung Infoabend
DESCRIPTION:
URL:http://www.grundschule-bockenheim.de/event/bgs-vitesca-schulverpflegung-infoabend/
END:VEVENT
BEGIN:VEVENT
DTSTART;VALUE=DATE:20251124
DTEND;VALUE=DATE:20251129
DTSTAMP:20260419T152918
CREATED:20251112T085834Z
LAST-MODIFIED:20251112T085834Z
UID:1860-1763942400-1764374399@www.grundschule-bockenheim.de
SUMMARY:BGS Speiseplan KW 48
DESCRIPTION:Speiseplan KW 48
URL:http://www.grundschule-bockenheim.de/event/bgs-speiseplan-kw-48-3/
END:VEVENT
BEGIN:VEVENT
DTSTART;TZID=Europe/Berlin:20251121T093500
DTEND;TZID=Europe/Berlin:20251121T121500
DTSTAMP:20260419T152918
CREATED:20251102T165720Z
LAST-MODIFIED:20251102T165720Z
UID:1846-1763717700-1763727300@www.grundschule-bockenheim.de
SUMMARY:Adventsbasteln
DESCRIPTION:
URL:http://www.grundschule-bockenheim.de/event/adventsbasteln-2/
END:VEVENT
END:VCALENDAR